BEGIN:VCALENDAR
VERSION:2.0
METHOD:PUBLISH
X-WR-CALNAME;VALUE=TEXT:
PRODID:-//Drupal iCal API//EN
BEGIN:VEVENT
2026-05-26 07:30:00 AEST
2026-05-26 09:00:00 AEST
DTSTART:20260525T213000Z
DTEND:20260525T230000Z
SUMMARY:First Nations Peace Poetics
UID:19d9235a-a7e9-4821-8116-7b487bc177c8
URL:https://freilich.anu.edu.au/news-events/events/first-nations-peace-poetics
END:VEVENT
END:VCALENDAR
